BEGIN:VCALENDAR
VERSION:2.0
PRODID:-//FULL GOSPEL PENTECOSTAL FELLOWSHIP OF CHURCHES - ECPv6.15.17.1//NONSGML v1.0//EN
CALSCALE:GREGORIAN
METHOD:PUBLISH
X-WR-CALNAME:FULL GOSPEL PENTECOSTAL FELLOWSHIP OF CHURCHES
X-ORIGINAL-URL:https://fgpfc.org
X-WR-CALDESC:Events for FULL GOSPEL PENTECOSTAL FELLOWSHIP OF CHURCHES
REFRESH-INTERVAL;VALUE=DURATION:PT1H
X-Robots-Tag:noindex
X-PUBLISHED-TTL:PT1H
BEGIN:VTIMEZONE
TZID:America/Los_Angeles
BEGIN:DAYLIGHT
TZOFFSETFROM:-0800
TZOFFSETTO:-0700
TZNAME:PDT
DTSTART:20250309T100000
END:DAYLIGHT
BEGIN:STANDARD
TZOFFSETFROM:-0700
TZOFFSETTO:-0800
TZNAME:PST
DTSTART:20251102T090000
END:STANDARD
BEGIN:DAYLIGHT
TZOFFSETFROM:-0800
TZOFFSETTO:-0700
TZNAME:PDT
DTSTART:20260308T100000
END:DAYLIGHT
BEGIN:STANDARD
TZOFFSETFROM:-0700
TZOFFSETTO:-0800
TZNAME:PST
DTSTART:20261101T090000
END:STANDARD
BEGIN:DAYLIGHT
TZOFFSETFROM:-0800
TZOFFSETTO:-0700
TZNAME:PDT
DTSTART:20270314T100000
END:DAYLIGHT
BEGIN:STANDARD
TZOFFSETFROM:-0700
TZOFFSETTO:-0800
TZNAME:PST
DTSTART:20271107T090000
END:STANDARD
END:VTIMEZONE
BEGIN:VTIMEZONE
TZID:UTC
BEGIN:STANDARD
TZOFFSETFROM:+0000
TZOFFSETTO:+0000
TZNAME:UTC
DTSTART:20250101T000000
END:STANDARD
END:VTIMEZONE
BEGIN:VEVENT
DTSTART;TZID=America/Los_Angeles:20260211T153000
DTEND;TZID=America/Los_Angeles:20260211T170000
DTSTAMP:20260423T152911
CREATED:20260207T040155Z
LAST-MODIFIED:20260207T040155Z
UID:3179-1770823800-1770829200@fgpfc.org
SUMMARY:Virtual Pastor's meeting
DESCRIPTION:Calling all Full Gospel Pastors! Our Presiding Bishop has a special word for us.
URL:https://fgpfc.org/event/virtual-pastors-meeting/
LOCATION:OR
END:VEVENT
BEGIN:VEVENT
DTSTART;TZID=America/Los_Angeles:20260312T180000
DTEND;TZID=America/Los_Angeles:20260314T140000
DTSTAMP:20260423T152911
CREATED:20260207T023820Z
LAST-MODIFIED:20260306T213332Z
UID:3221-1773338400-1773496800@fgpfc.org
SUMMARY:Spring Roundtable 2026
DESCRIPTION:Calling all Leaders and Pastors! Our Bishop has a word from the Lord and we would love to hear from you too!
URL:https://fgpfc.org/event/spring-roundtable/
LOCATION:DOUBLE TREE OLYMPIA\, WA\, 415 Capitol Way N\,\, Olympia\, WA\, WA\, 98501\, United States
END:VEVENT
BEGIN:VEVENT
DTSTART;TZID=UTC:20260315T000000
DTEND;TZID=UTC:20260514T235900
DTSTAMP:20260423T152911
CREATED:20240404T063634Z
LAST-MODIFIED:20260212T231413Z
UID:2443-1773532800-1778803140@fgpfc.org
SUMMARY:FGPFC CREDENTIAL REQUEST
DESCRIPTION:  \n\n\n\nFor the Full Gospel Pentecostal Fellowship of Churches (FGPFC) credential renewal from 2026-2027\, Clergy are required to fulfill renewal criteria outlined by the Fellowship. This includes completing designated courses or seminars on theology\, leadership\, or other relevant topics\, participating in ministry activities\, and maintaining active involvement in their local FGPFC congregation. Renewal ensures that members remain aligned with the Fellowship’s principles and standards\, fostering continued growth and effectiveness in their ministry endeavors. \n  \nUSE LEGAL FIRST AND LAST NAME FOR RENEWALS!\n\n\n\n\n\n\n\n\n\n\n \n\n\n\n \n\n\n\n \n\n\n\n \n\n\n\n \n\n\n\n\n\n\n 
URL:https://fgpfc.org/event/2025-2026-fgpfc-credential-renewal/
LOCATION:OR
ATTACH;FMTTYPE=image/jpeg:https://FGPFC.org/wp-content/uploads/2024/04/Heading.jpg
ORGANIZER;CN="FGPFC":MAILTO:FGPFC.info@gmail.com
END:VEVENT
BEGIN:VEVENT
DTSTART;TZID=America/Los_Angeles:20260625T080000
DTEND;TZID=America/Los_Angeles:20260627T170000
DTSTAMP:20260423T152911
CREATED:20260314T170316Z
LAST-MODIFIED:20260314T170707Z
UID:3181-1782374400-1782579600@fgpfc.org
SUMMARY:June Conference
DESCRIPTION:  \nIt’s that time of year when the saints gather together in a time of worship and fellowship! Bring a friend and come with anticipation for God to move in a miraculous way.
URL:https://fgpfc.org/event/june-conference/
LOCATION:EMMANUEL CHURCH\, 1033 N Sumner\, PORTLAND\, OR\, 97217\, United States
END:VEVENT
END:VCALENDAR