BEGIN:VCALENDAR
VERSION:2.0
PRODID:-//FULL GOSPEL PENTECOSTAL FELLOWSHIP OF CHURCHES - ECPv6.15.17.1//NONSGML v1.0//EN
CALSCALE:GREGORIAN
METHOD:PUBLISH
X-WR-CALNAME:FULL GOSPEL PENTECOSTAL FELLOWSHIP OF CHURCHES
X-ORIGINAL-URL:https://fgpfc.org
X-WR-CALDESC:Events for FULL GOSPEL PENTECOSTAL FELLOWSHIP OF CHURCHES
REFRESH-INTERVAL;VALUE=DURATION:PT1H
X-Robots-Tag:noindex
X-PUBLISHED-TTL:PT1H
BEGIN:VTIMEZONE
TZID:America/Los_Angeles
BEGIN:DAYLIGHT
TZOFFSETFROM:-0800
TZOFFSETTO:-0700
TZNAME:PDT
DTSTART:20250309T100000
END:DAYLIGHT
BEGIN:STANDARD
TZOFFSETFROM:-0700
TZOFFSETTO:-0800
TZNAME:PST
DTSTART:20251102T090000
END:STANDARD
BEGIN:DAYLIGHT
TZOFFSETFROM:-0800
TZOFFSETTO:-0700
TZNAME:PDT
DTSTART:20260308T100000
END:DAYLIGHT
BEGIN:STANDARD
TZOFFSETFROM:-0700
TZOFFSETTO:-0800
TZNAME:PST
DTSTART:20261101T090000
END:STANDARD
BEGIN:DAYLIGHT
TZOFFSETFROM:-0800
TZOFFSETTO:-0700
TZNAME:PDT
DTSTART:20270314T100000
END:DAYLIGHT
BEGIN:STANDARD
TZOFFSETFROM:-0700
TZOFFSETTO:-0800
TZNAME:PST
DTSTART:20271107T090000
END:STANDARD
END:VTIMEZONE
BEGIN:VEVENT
DTSTART;TZID=America/Los_Angeles:20260206T190000
DTEND;TZID=America/Los_Angeles:20260206T200000
DTSTAMP:20260423T124740
CREATED:20260207T014955Z
LAST-MODIFIED:20260207T015926Z
UID:3176-1770404400-1770408000@fgpfc.org
SUMMARY:Virtual Prayer Night
DESCRIPTION:  \n  \n 
URL:https://fgpfc.org/event/virtual-prayer-night/
LOCATION:OR
END:VEVENT
END:VCALENDAR