BEGIN:VCALENDAR
VERSION:2.0
PRODID:-//FULL GOSPEL PENTECOSTAL FELLOWSHIP OF CHURCHES - ECPv6.15.17.1//NONSGML v1.0//EN
CALSCALE:GREGORIAN
METHOD:PUBLISH
X-ORIGINAL-URL:https://fgpfc.org
X-WR-CALDESC:Events for FULL GOSPEL PENTECOSTAL FELLOWSHIP OF CHURCHES
REFRESH-INTERVAL;VALUE=DURATION:PT1H
X-Robots-Tag:noindex
X-PUBLISHED-TTL:PT1H
BEGIN:VTIMEZONE
TZID:UTC
BEGIN:STANDARD
TZOFFSETFROM:+0000
TZOFFSETTO:+0000
TZNAME:UTC
DTSTART:20240101T000000
END:STANDARD
END:VTIMEZONE
BEGIN:VEVENT
DTSTART;TZID=UTC:20250315T000000
DTEND;TZID=UTC:20250621T235900
DTSTAMP:20260424T085050
CREATED:20250521T094308Z
LAST-MODIFIED:20250620T005122Z
UID:2896-1741996800-1750550340@fgpfc.org
SUMMARY:Conference Registration
DESCRIPTION:Greetings Saints\, it’s time for our annual gathering of the Full Gospel Churches! We are excited to see you and we are in expectation of what the Lord is going to do.
URL:https://fgpfc.org/event/june-conference-registration/
LOCATION:EMMANUEL CHURCH\, 1033 N Sumner\, PORTLAND\, OR\, 97217\, United States
END:VEVENT
END:VCALENDAR